BEGIN:VCALENDAR
VERSION:2.0
PRODID:-//www.ctbarfdn.org//NONSGML kigkonsult.se iCalcreator 2.30.10//
CALSCALE:GREGORIAN
METHOD:PUBLISH
UID:acc5d19d-5a44-4e17-9688-5c71af152680
X-WR-CALDESC:This is a virtual event.
X-WR-RELCALID:79f050b470c9d6abae7f6795ab348f62
X-WR-TIMEZONE:America/New_York
BEGIN:VTIMEZONE
TZID:America/New_York
BEGIN:STANDARD
TZNAME:EST
DTSTART:20251102T020000
TZOFFSETFROM:-0400
TZOFFSETTO:-0500
RDATE:20261101T020000
RDATE:20271107T020000
END:STANDARD
BEGIN:DAYLIGHT
TZNAME:EDT
DTSTART:20260308T020000
TZOFFSETFROM:-0500
TZOFFSETTO:-0400
RDATE:20270314T020000
END:DAYLIGHT
END:VTIMEZONE
BEGIN:VEVENT
UID:5d63f0c7-19ec-4a72-be71-07e6d939cb5a
DTSTAMP:20260421T233631Z
DESCRIPTION:This is a virtual event.
DTSTART;TZID=America/New_York:20260527T173000
DTEND;TZID=America/New_York:20260527T190000
LOCATION:
SUMMARY:ATJ Speaker Series: The Economic Impact of Civil Legal Aid
END:VEVENT
END:VCALENDAR
