BEGIN:VCALENDAR
VERSION:2.0
PRODID:-//www.ctbarfdn.org//NONSGML kigkonsult.se iCalcreator 2.30.10//
CALSCALE:GREGORIAN
METHOD:PUBLISH
UID:75ecbb7a-7284-45ed-a977-724e1ddc98cd
X-WR-CALDESC:
X-WR-RELCALID:6083c89b34dd242672b26594b5d0c87c
X-WR-TIMEZONE:America/New_York
BEGIN:VTIMEZONE
TZID:America/New_York
BEGIN:STANDARD
TZNAME:EST
DTSTART:20261101T020000
TZOFFSETFROM:-0400
TZOFFSETTO:-0500
RDATE:20271107T020000
END:STANDARD
BEGIN:DAYLIGHT
TZNAME:EDT
DTSTART:20260308T020000
TZOFFSETFROM:-0500
TZOFFSETTO:-0400
RDATE:20270314T020000
RDATE:20280312T020000
END:DAYLIGHT
END:VTIMEZONE
BEGIN:VEVENT
UID:2585b85d-27c3-4183-bce8-c6c9301222bd
DTSTAMP:20260421T154732Z
DESCRIPTION:
DTSTART;TZID=America/New_York:20261120T090000
DTEND;TZID=America/New_York:20261120T160000
LOCATION:Quinnipiac University School of Law\, 370 Bassett Rd\, North Haven
 \, CT 06473 US
SUMMARY:14th John A. Speziale ADR Symposium
END:VEVENT
END:VCALENDAR
