BEGIN:VCALENDAR
VERSION:2.0
PRODID:-//www.ctbarfdn.org//NONSGML kigkonsult.se iCalcreator 2.30.10//
CALSCALE:GREGORIAN
METHOD:PUBLISH
UID:917a2a91-caad-4b80-96c2-77a9e22ef7f3
X-WR-CALDESC:Join us for a dynamic three-part presentation which examines t
 he decline of jury trials in today’s civil legal system. The symposium aim
 s to foster a nuanced dialogue between practitioners and scholars about th
 e causes and consequences of the vanishing trial\, and potential paths for
 ward. The first panel will explore how the aspiration for more efficient t
 rials and the practical limitations of court resources\, caseloads\, and f
 unding\, coupled with the development of ADR methods and alternatives\, re
 sulted in a significant decline in jury trials as Judge Kravitz warned wou
 ld happen 20 years ago. The second panel will present divergent views on t
 he value and relevance of jury trials—again drawing from themes in Judge K
 ravitz’s influential article. The third panel will focus on procedural and
  practical reforms to make jury trials more efficient\, accessible\, and l
 ikely.
X-WR-RELCALID:b5adc11644ddd706624cc5a4b1420b72
X-WR-TIMEZONE:America/New_York
BEGIN:VTIMEZONE
TZID:America/New_York
BEGIN:STANDARD
TZNAME:EST
DTSTART:20251102T020000
TZOFFSETFROM:-0400
TZOFFSETTO:-0500
RDATE:20261101T020000
END:STANDARD
BEGIN:DAYLIGHT
TZNAME:EDT
DTSTART:20250309T020000
TZOFFSETFROM:-0500
TZOFFSETTO:-0400
RDATE:20260308T020000
RDATE:20270314T020000
END:DAYLIGHT
END:VTIMEZONE
BEGIN:VEVENT
UID:e12cc89f-894e-4323-958e-db9092182c99
DTSTAMP:20260419T154434Z
DESCRIPTION:Join us for a dynamic three-part presentation which examines th
 e decline of jury trials in today’s civil legal system. The symposium aims
  to foster a nuanced dialogue between practitioners and scholars about the
  causes and consequences of the vanishing trial\, and potential paths forw
 ard. The first panel will explore how the aspiration for more efficient tr
 ials and the practical limitations of court resources\, caseloads\, and fu
 nding\, coupled with the development of ADR methods and alternatives\, res
 ulted in a significant decline in jury trials as Judge Kravitz warned woul
 d happen 20 years ago. The second panel will present divergent views on th
 e value and relevance of jury trials—again drawing from themes in Judge Kr
 avitz’s influential article. The third panel will focus on procedural and 
 practical reforms to make jury trials more efficient\, accessible\, and li
 kely.
DTSTART;TZID=America/New_York:20251114T083000
DTEND;TZID=America/New_York:20251114T140000
LOCATION:UConn School of Law\, 55 Elizabeth Street\, Hartford\, CT 06105 US
SUMMARY:Sixth Hon. Mark R. Kravitz Symposium
END:VEVENT
END:VCALENDAR
