BEGIN:VCALENDAR
VERSION:2.0
PRODID:-//www.ctbarfdn.org//NONSGML kigkonsult.se iCalcreator 2.30.10//
CALSCALE:GREGORIAN
METHOD:PUBLISH
UID:b10dde52-09c9-486e-a97d-cbaa4be49391
X-WR-CALDESC:The 13th Speziale ADR symposium will bring together people who
  work both with at-risk youth who commit harm and with community stakehold
 ers\, to better collaborate to reduce recidivism and the “school-to-prison
 ” pipeline by using restorative practices. To date\, there has been limite
 d collaboration and coordination between these systems. The symposium will
  focus on what is happening in Connecticut\, as well as nationally and int
 ernationally\, using restorative justice processes to transform youth just
 ice systems and make communities safer and more connected.
X-WR-RELCALID:8af477a1fa6448a69a44e4245d9e32e3
X-WR-TIMEZONE:America/New_York
BEGIN:VTIMEZONE
TZID:America/New_York
BEGIN:STANDARD
TZNAME:EST
DTSTART:20241103T020000
TZOFFSETFROM:-0400
TZOFFSETTO:-0500
RDATE:20251102T020000
END:STANDARD
BEGIN:DAYLIGHT
TZNAME:EDT
DTSTART:20240310T020000
TZOFFSETFROM:-0500
TZOFFSETTO:-0400
RDATE:20250309T020000
RDATE:20260308T020000
END:DAYLIGHT
END:VTIMEZONE
BEGIN:VEVENT
UID:49a54f84-e061-4c4c-b15e-6e405bced85b
DTSTAMP:20260420T110228Z
DESCRIPTION:The 13th Speziale ADR symposium will bring together people who 
 work both with at-risk youth who commit harm and with community stakeholde
 rs\, to better collaborate to reduce recidivism and the “school-to-prison”
  pipeline by using restorative practices. To date\, there has been limited
  collaboration and coordination between these systems. The symposium will 
 focus on what is happening in Connecticut\, as well as nationally and inte
 rnationally\, using restorative justice processes to transform youth justi
 ce systems and make communities safer and more connected.
DTSTART;TZID=America/New_York:20241122T083000
DTEND;TZID=America/New_York:20241122T153000
LOCATION:Quinnipiac University School of Law\, 370 Bassett Road\, North Hav
 en\, CT 06473 US
SUMMARY:The 13th John A. Speziale ADR Symposium - Restorative Justice & Juv
 enile Justice
END:VEVENT
END:VCALENDAR
