BEGIN:VCALENDAR
VERSION:2.0
PRODID:-//www.ctbarfdn.org//NONSGML kigkonsult.se iCalcreator 2.30.10//
CALSCALE:GREGORIAN
METHOD:PUBLISH
UID:11755d53-cb8d-4d67-8534-8200c1a38999
X-WR-CALDESC:In 2018\, the Connecticut Bar Foundation James W. Cooper Fello
 ws presented a Roundtable on “Transgender People and the Law.” Since then\
 , much has changed for the transgender community\, with many members facin
 g increasing vilification\, repression\, and persecution. Across the count
 ry\, laws are being enacted that make life more difficult for transgender 
 individuals\, particularly by restricting access to health care and gender
 -affirming services.\n\nThis Roundtable will build upon the 2018 discussio
 n\, focusing on the realities transgender individuals and their families f
 ace today. We’ll examine their fears\, hopes\, and the ongoing struggles t
 hey encounter\, particularly when navigating legal systems that are meant 
 to offer protection.\n\nJoin us for an evening of dialogue\, where we will
  listen to and discuss the journeys of transgender individuals\, the chall
 enges and victories they encounter\, and explore how we can support their 
 access to justice and a better quality of life.\n\nThis event is a Fellows
 -only program with limited capacity.  Please call the Foundation at 860.72
 2.2494 if you have any questions or would like to register.
X-WR-RELCALID:5257ea4cdc10501f30c595398f620831
X-WR-TIMEZONE:America/New_York
BEGIN:VTIMEZONE
TZID:America/New_York
BEGIN:STANDARD
TZNAME:EST
DTSTART:20241103T020000
TZOFFSETFROM:-0400
TZOFFSETTO:-0500
RDATE:20251102T020000
END:STANDARD
BEGIN:DAYLIGHT
TZNAME:EDT
DTSTART:20240310T020000
TZOFFSETFROM:-0500
TZOFFSETTO:-0400
RDATE:20250309T020000
RDATE:20260308T020000
END:DAYLIGHT
END:VTIMEZONE
BEGIN:VEVENT
UID:2deae8aa-c986-4dc8-b8ee-58a2d636c6ee
DTSTAMP:20260420T105417Z
DESCRIPTION:In 2018\, the Connecticut Bar Foundation James W. Cooper Fellow
 s presented a Roundtable on “Transgender People and the Law.” Since then\,
  much has changed for the transgender community\, with many members facing
  increasing vilification\, repression\, and persecution. Across the countr
 y\, laws are being enacted that make life more difficult for transgender i
 ndividuals\, particularly by restricting access to health care and gender-
 affirming services.\n\nThis Roundtable will build upon the 2018 discussion
 \, focusing on the realities transgender individuals and their families fa
 ce today. We’ll examine their fears\, hopes\, and the ongoing struggles th
 ey encounter\, particularly when navigating legal systems that are meant t
 o offer protection.\n\nJoin us for an evening of dialogue\, where we will 
 listen to and discuss the journeys of transgender individuals\, the challe
 nges and victories they encounter\, and explore how we can support their a
 ccess to justice and a better quality of life.\n\nThis event is a Fellows-
 only program with limited capacity.  Please call the Foundation at 860.722
 .2494 if you have any questions or would like to register.
DTSTART;TZID=America/New_York:20241107T180000
DTEND;TZID=America/New_York:20241107T200000
LOCATION:Quinnipiac University School of Law\, 370 Bassett Road\, Room 221\
 , North Haven\, CT 06473 US
SUMMARY:In-Person Roundtable - Transgender People and the Law
END:VEVENT
END:VCALENDAR
