BEGIN:VCALENDAR
VERSION:2.0
PRODID:-//www.ctbarfdn.org//NONSGML kigkonsult.se iCalcreator 2.30.10//
CALSCALE:GREGORIAN
METHOD:PUBLISH
UID:3f7356ea-8f0d-4268-a712-82efe7caaa4c
X-WR-CALDESC:The James W. Cooper Fellows of the Connecticut Bar Foundation\
 , the Connecticut Bar Association\, and the University of Connecticut Scho
 ol of Law invite you to join us for this special evening in connection wit
 h the Constance Baker Motley Speaker Series on Racial Inequality.  We will
  continue the conversation that began at our Law of Hate Symposium held in
  November 2023.  That event offered a safe and inclusive forum to discuss 
 hate crimes and profile the work of the Connecticut Hate Crimes Advisory C
 ouncil.  Now\, we look to dive deeper and explore these issues as they are
  reflected in Refuge\, an award-winning documentary that follows a leader 
 in a white nationalist hate group who finds healing from the people he onc
 e hated. \n\nWe will watch the film together\, and are honored that we wil
 l then be joined by Din Blankenship\, Refuge's co-director and co-producer
 \, who will participate in a Q&A after we screen the movie.  We look forwa
 rd to an impactful program\, and a unique opportunity to hear from the fil
 mmaker of this powerful documentary.  Don't miss out - please register tod
 ay by clicking the link below\, which will take you to the 3rd party site 
 that will be administering the screening.\n\n***Please note: during regist
 ration\, there is a check box labeled 'Share my email with the host.'  We 
 kindly ask you to keep that box checked\, so that the Connecticut Bar Foun
 dation (the host of the event) will be able to maintain an accurate list o
 f registrants.  Please reach out to the Foundation at (860) 722-2494 if yo
 u have any questions.  Thank you!
X-WR-RELCALID:4bffa3fa45842ce2e7559943e7324840
X-WR-TIMEZONE:America/New_York
BEGIN:VTIMEZONE
TZID:America/New_York
BEGIN:STANDARD
TZNAME:EST
DTSTART:20231105T020000
TZOFFSETFROM:-0400
TZOFFSETTO:-0500
RDATE:20241103T020000
RDATE:20251102T020000
END:STANDARD
BEGIN:DAYLIGHT
TZNAME:EDT
DTSTART:20240310T020000
TZOFFSETFROM:-0500
TZOFFSETTO:-0400
RDATE:20250309T020000
RDATE:20260308T020000
END:DAYLIGHT
END:VTIMEZONE
BEGIN:VEVENT
UID:2eedaf61-7c38-40f9-8192-1da75dc690f9
DTSTAMP:20260420T124905Z
DESCRIPTION:The James W. Cooper Fellows of the Connecticut Bar Foundation\,
  the Connecticut Bar Association\, and the University of Connecticut Schoo
 l of Law invite you to join us for this special evening in connection with
  the Constance Baker Motley Speaker Series on Racial Inequality.  We will 
 continue the conversation that began at our Law of Hate Symposium held in 
 November 2023.  That event offered a safe and inclusive forum to discuss h
 ate crimes and profile the work of the Connecticut Hate Crimes Advisory Co
 uncil.  Now\, we look to dive deeper and explore these issues as they are 
 reflected in Refuge\, an award-winning documentary that follows a leader i
 n a white nationalist hate group who finds healing from the people he once
  hated. \n\nWe will watch the film together\, and are honored that we will
  then be joined by Din Blankenship\, Refuge's co-director and co-producer\
 , who will participate in a Q&A after we screen the movie.  We look forwar
 d to an impactful program\, and a unique opportunity to hear from the film
 maker of this powerful documentary.  Don't miss out - please register toda
 y by clicking the link below\, which will take you to the 3rd party site t
 hat will be administering the screening.\n\n***Please note: during registr
 ation\, there is a check box labeled 'Share my email with the host.'  We k
 indly ask you to keep that box checked\, so that the Connecticut Bar Found
 ation (the host of the event) will be able to maintain an accurate list of
  registrants.  Please reach out to the Foundation at (860) 722-2494 if you
  have any questions.  Thank you!
DTSTART;TZID=America/New_York:20241001T180000
DTEND;TZID=America/New_York:20241001T200000
LOCATION:Virtual Film Screening via Kinema
SUMMARY:Motley Speaker Series - Refuge Film Screening
END:VEVENT
END:VCALENDAR
