BEGIN:VCALENDAR
VERSION:2.0
PRODID:-//www.ctbarfdn.org//NONSGML kigkonsult.se iCalcreator 2.30.10//
CALSCALE:GREGORIAN
METHOD:PUBLISH
UID:360e294f-54a8-4d89-a7be-217158ee6921
X-WR-CALDESC:
X-WR-RELCALID:2ab9d3b854735e81fa2fda3f431876c7
X-WR-TIMEZONE:America/New_York
BEGIN:VTIMEZONE
TZID:America/New_York
BEGIN:STANDARD
TZNAME:EST
DTSTART:20231105T020000
TZOFFSETFROM:-0400
TZOFFSETTO:-0500
RDATE:20241103T020000
RDATE:20251102T020000
END:STANDARD
BEGIN:DAYLIGHT
TZNAME:EDT
DTSTART:20240310T020000
TZOFFSETFROM:-0500
TZOFFSETTO:-0400
RDATE:20250309T020000
END:DAYLIGHT
END:VTIMEZONE
BEGIN:VEVENT
UID:8b59ff44-0365-4cb7-81aa-62b4c7ca7d48
DTSTAMP:20260420T202814Z
DESCRIPTION:
DTSTART;TZID=America/New_York:20240530T180000
DTEND;TZID=America/New_York:20240530T203000
LOCATION:Saint Clements Castle & Marina (1931 Portland-Cobalt Rd\, Portland
 \, CT  06480)
SUMMARY:CBF Annual Reception
END:VEVENT
END:VCALENDAR
