BEGIN:VCALENDAR
VERSION:2.0
PRODID:-//www.ctbarfdn.org//NONSGML kigkonsult.se iCalcreator 2.30.10//
CALSCALE:GREGORIAN
METHOD:PUBLISH
UID:42a3490e-ef19-43ff-9de0-c7b1756a0454
X-WR-CALDESC:The Rules of Evidence are used on a daily basis in the legal s
 ystem\, but little thought is given to how those rules reflect the cultura
 l norms\, sensibilities\, and racial biases operating at an institutional 
 and societal level at the time they were written. Practitioners and laypeo
 ple alike may believe that the Rules of Evidence are unbiased and equitabl
 e\, but we find racially coded language throughout\, and the application o
 f these rules cannot escape the system in which they are employed. Oftenti
 mes\, race and racism themselves are used as de facto evidence and sources
  of proof.\n\nThis program will explore the development of the Rules of Ev
 idence\, examining what was going on at the time the rules were developed\
 , the many examples of how parties do not experience equitable evidentiary
  burdens\, and the negative effect that racially-biased use of the Rules o
 f Evidence can have on the economic empowerment of people of color. From l
 ack of evidentiary scrutiny to the introduction of antiracist expert evide
 nce\, we can see how race is used as a proxy for credibility and character
 \, further enflaming racial stereotypes and negatively influencing jurispr
 udential decision-making.\n\nCost: Free\n\nCT: 2.0 CLE Credits (Ethics)
X-WR-RELCALID:3884d05fab94b22ba18563d823c3dd93
X-WR-TIMEZONE:America/New_York
BEGIN:VTIMEZONE
TZID:America/New_York
BEGIN:STANDARD
TZNAME:EST
DTSTART:20231105T020000
TZOFFSETFROM:-0400
TZOFFSETTO:-0500
RDATE:20241103T020000
RDATE:20251102T020000
END:STANDARD
BEGIN:DAYLIGHT
TZNAME:EDT
DTSTART:20240310T020000
TZOFFSETFROM:-0500
TZOFFSETTO:-0400
RDATE:20250309T020000
END:DAYLIGHT
END:VTIMEZONE
BEGIN:VEVENT
UID:97ff1484-acf2-4360-a950-2a88d37997b6
DTSTAMP:20260420T202814Z
DESCRIPTION:The Rules of Evidence are used on a daily basis in the legal sy
 stem\, but little thought is given to how those rules reflect the cultural
  norms\, sensibilities\, and racial biases operating at an institutional a
 nd societal level at the time they were written. Practitioners and laypeop
 le alike may believe that the Rules of Evidence are unbiased and equitable
 \, but we find racially coded language throughout\, and the application of
  these rules cannot escape the system in which they are employed. Oftentim
 es\, race and racism themselves are used as de facto evidence and sources 
 of proof.\n\nThis program will explore the development of the Rules of Evi
 dence\, examining what was going on at the time the rules were developed\,
  the many examples of how parties do not experience equitable evidentiary 
 burdens\, and the negative effect that racially-biased use of the Rules of
  Evidence can have on the economic empowerment of people of color. From la
 ck of evidentiary scrutiny to the introduction of antiracist expert eviden
 ce\, we can see how race is used as a proxy for credibility and character\
 , further enflaming racial stereotypes and negatively influencing jurispru
 dential decision-making.\n\nCost: Free\n\nCT: 2.0 CLE Credits (Ethics)
DTSTART;TZID=America/New_York:20240528T173000
DTEND;TZID=America/New_York:20240528T193000
LOCATION:Zoom
SUMMARY:Motley Speaker Series - Race Is Evidence: Exploring Discrimination 
 in the Rules of Evidence
END:VEVENT
END:VCALENDAR
