BEGIN:VCALENDAR
VERSION:2.0
PRODID:-//www.ctbarfdn.org//NONSGML kigkonsult.se iCalcreator 2.30.10//
CALSCALE:GREGORIAN
METHOD:PUBLISH
UID:e5be6f61-2fb1-42d5-af1f-73f5da68736a
X-WR-CALDESC:
X-WR-RELCALID:1b21e6f384ee1792e69207433b43002b
X-WR-TIMEZONE:America/New_York
BEGIN:VTIMEZONE
TZID:America/New_York
BEGIN:STANDARD
TZNAME:EST
DTSTART:20231105T020000
TZOFFSETFROM:-0400
TZOFFSETTO:-0500
RDATE:20241103T020000
RDATE:20251102T020000
END:STANDARD
BEGIN:DAYLIGHT
TZNAME:EDT
DTSTART:20240310T020000
TZOFFSETFROM:-0500
TZOFFSETTO:-0400
RDATE:20250309T020000
END:DAYLIGHT
END:VTIMEZONE
BEGIN:VEVENT
UID:b1563a6e-203b-48a2-81e3-45645538d263
DTSTAMP:20260420T202855Z
DESCRIPTION:
DTSTART;TZID=America/New_York:20240513T160000
DTEND;TZID=America/New_York:20240513T173000
LOCATION:CliftonLarsonAllen LLP\, 29 South Main Street\, 4th Floor \, West 
 Hartford\, CT 06107 US
SUMMARY:POSTPONED: In-Person Roundtable - Adolescent Mental Health in Schoo
 l and Criminal Defense Cases
END:VEVENT
END:VCALENDAR
