BEGIN:VCALENDAR
VERSION:2.0
PRODID:-//www.ctbarfdn.org//NONSGML kigkonsult.se iCalcreator 2.30.10//
CALSCALE:GREGORIAN
METHOD:PUBLISH
UID:c2d873f0-518b-4da7-a502-872337139dc5
X-WR-CALDESC:This panel discussion will dive deep into the history of discr
 imination in the Nutmeg State\, looking at who was—and was not—permitted a
 ccess to our public spaces. We will look at how this was effectuated throu
 gh town ordinances\, zoning\, and caselaw. The landmark CT Supreme Court d
 ecision in Leydon v. Town of Greenwich will be central to this conversatio
 n. The panelists will also survey where we are currently.\n\nCost: Free\n
 \nCT: 2.0 CLE Credits (Ethics)
X-WR-RELCALID:c4f6bd7e1e364f926b068663f38cee4f
X-WR-TIMEZONE:America/New_York
BEGIN:VTIMEZONE
TZID:America/New_York
BEGIN:STANDARD
TZNAME:EST
DTSTART:20231105T020000
TZOFFSETFROM:-0400
TZOFFSETTO:-0500
RDATE:20241103T020000
END:STANDARD
BEGIN:DAYLIGHT
TZNAME:EDT
DTSTART:20230312T020000
TZOFFSETFROM:-0500
TZOFFSETTO:-0400
RDATE:20240310T020000
RDATE:20250309T020000
END:DAYLIGHT
END:VTIMEZONE
BEGIN:VEVENT
UID:79e71f0d-1923-49e4-ab12-4dd7a82696f9
DTSTAMP:20260421T010639Z
DESCRIPTION:This panel discussion will dive deep into the history of discri
 mination in the Nutmeg State\, looking at who was—and was not—permitted ac
 cess to our public spaces. We will look at how this was effectuated throug
 h town ordinances\, zoning\, and caselaw. The landmark CT Supreme Court de
 cision in Leydon v. Town of Greenwich will be central to this conversation
 . The panelists will also survey where we are currently.\n\nCost: Free\n\n
 CT: 2.0 CLE Credits (Ethics)
DTSTART;TZID=America/New_York:20240221T173000
DTEND;TZID=America/New_York:20240221T193000
LOCATION:Zoom
SUMMARY:Motley Speaker Series - Investigating Access to Public Spaces
END:VEVENT
END:VCALENDAR
