BEGIN:VCALENDAR
VERSION:2.0
PRODID:-//www.ctbarfdn.org//NONSGML kigkonsult.se iCalcreator 2.30.10//
CALSCALE:GREGORIAN
METHOD:PUBLISH
UID:ac65159f-8d86-44c9-8f5f-c52314955583
X-WR-CALDESC:When it comes to pretrial release decisions\, we know that ane
 cdotally\, race appears to be a factor in determining who is held and who 
 is released. But research in this area confirms that behind these anecdote
 s is indeed hard data—statistics demonstrate the stark racial disparities 
 and practical realities of who is held pretrial. This panel discussion wil
 l explore that research\, laying out the framework for these decisions as 
 well as the risk assessment tools used as part of the calculation. And we’
 ll take it further—exploring how the limitations of these risk assessment 
 tools lead straight to inequality in the ultimate outcomes for these cases
 \, and whether there is anything in the process or at the state legislativ
 e level that we can do to fix it.\n\nCost: Free\n\nCT: 2.0 CLE Credits (Et
 hics)
X-WR-RELCALID:25b24a5f49995c2805328d840896fe3f
X-WR-TIMEZONE:America/New_York
BEGIN:VTIMEZONE
TZID:America/New_York
BEGIN:STANDARD
TZNAME:EST
DTSTART:20231105T020000
TZOFFSETFROM:-0400
TZOFFSETTO:-0500
RDATE:20241103T020000
END:STANDARD
BEGIN:DAYLIGHT
TZNAME:EDT
DTSTART:20230312T020000
TZOFFSETFROM:-0500
TZOFFSETTO:-0400
RDATE:20240310T020000
RDATE:20250309T020000
END:DAYLIGHT
END:VTIMEZONE
BEGIN:VEVENT
UID:2478779a-a0a4-4b39-a713-94c322a8b18a
DTSTAMP:20260421T042855Z
DESCRIPTION:When it comes to pretrial release decisions\, we know that anec
 dotally\, race appears to be a factor in determining who is held and who i
 s released. But research in this area confirms that behind these anecdotes
  is indeed hard data—statistics demonstrate the stark racial disparities a
 nd practical realities of who is held pretrial. This panel discussion will
  explore that research\, laying out the framework for these decisions as w
 ell as the risk assessment tools used as part of the calculation. And we’l
 l take it further—exploring how the limitations of these risk assessment t
 ools lead straight to inequality in the ultimate outcomes for these cases\
 , and whether there is anything in the process or at the state legislative
  level that we can do to fix it.\n\nCost: Free\n\nCT: 2.0 CLE Credits (Eth
 ics)
DTSTART;TZID=America/New_York:20231207T173000
DTEND;TZID=America/New_York:20231207T193000
LOCATION:
SUMMARY:Motley Speaker Series - Race\, Pretrial Detention\, and Disparate O
 utcomes
END:VEVENT
END:VCALENDAR
