BEGIN:VCALENDAR
VERSION:2.0
PRODID:-//www.ctbarfdn.org//NONSGML kigkonsult.se iCalcreator 2.30.10//
CALSCALE:GREGORIAN
METHOD:PUBLISH
UID:7642db21-ea3d-46d5-98b8-0392afb13b7b
X-WR-CALDESC:
X-WR-RELCALID:c44a948e5e63bfcd2f44c115f01d4099
X-WR-TIMEZONE:America/New_York
BEGIN:VTIMEZONE
TZID:America/New_York
BEGIN:STANDARD
TZNAME:EST
DTSTART:20221106T020000
TZOFFSETFROM:-0400
TZOFFSETTO:-0500
RDATE:20231105T020000
RDATE:20241103T020000
END:STANDARD
BEGIN:DAYLIGHT
TZNAME:EDT
DTSTART:20230312T020000
TZOFFSETFROM:-0500
TZOFFSETTO:-0400
RDATE:20240310T020000
RDATE:20250309T020000
END:DAYLIGHT
END:VTIMEZONE
BEGIN:VEVENT
UID:20b6c61a-cae2-404b-964a-dcbd94458d3f
DTSTAMP:20260421T081137Z
DESCRIPTION:
DTSTART;TZID=America/New_York:20231013T083000
DTEND;TZID=America/New_York:20231013T133000
LOCATION:193 Whitney Ave.\, New Haven\, CT 06511 US
SUMMARY:5th Hon. Mark R. Kravitz Symposium
END:VEVENT
END:VCALENDAR
