BEGIN:VCALENDAR
VERSION:2.0
PRODID:-//www.ctbarfdn.org//NONSGML kigkonsult.se iCalcreator 2.30.10//
CALSCALE:GREGORIAN
METHOD:PUBLISH
UID:26c6161c-f815-453a-91b0-a4581fbf0303
X-WR-CALDESC:Delivery of special education to students in Connecticut is a 
 complex balance of interests between children\, parents\, schools\, admini
 strators\, and government. Legal precedent and framework determine the rig
 hts and responsibilities of each participant and ultimately\, the scope an
 d quality of the special education students receive. This program explores
  Connecticut's special education system\, the perspectives of parties invo
 lved\, and the challenges and opportunities that arise in practice\, all w
 ith the goal of encouraging equitable and excellent special education for 
 all students.\n\nCost: Free\n\nCT: 1.5 CLE credits (Ethics)\n\nTo learn mo
 re about this event or to register via Zoom\, please visit the link provid
 ed below.
X-WR-RELCALID:dfdf6edc57d26d62efad2923b7a32947
X-WR-TIMEZONE:America/New_York
BEGIN:VTIMEZONE
TZID:America/New_York
BEGIN:STANDARD
TZNAME:EST
DTSTART:20221106T020000
TZOFFSETFROM:-0400
TZOFFSETTO:-0500
RDATE:20231105T020000
END:STANDARD
BEGIN:DAYLIGHT
TZNAME:EDT
DTSTART:20220313T020000
TZOFFSETFROM:-0500
TZOFFSETTO:-0400
RDATE:20230312T020000
RDATE:20240310T020000
END:DAYLIGHT
END:VTIMEZONE
BEGIN:VEVENT
UID:03424ccb-eceb-4f65-904d-758474df2bd4
DTSTAMP:20260420T042931Z
DESCRIPTION:Delivery of special education to students in Connecticut is a c
 omplex balance of interests between children\, parents\, schools\, adminis
 trators\, and government. Legal precedent and framework determine the righ
 ts and responsibilities of each participant and ultimately\, the scope and
  quality of the special education students receive. This program explores 
 Connecticut's special education system\, the perspectives of parties invol
 ved\, and the challenges and opportunities that arise in practice\, all wi
 th the goal of encouraging equitable and excellent special education for a
 ll students.\n\nCost: Free\n\nCT: 1.5 CLE credits (Ethics)\n\nTo learn mor
 e about this event or to register via Zoom\, please visit the link provide
 d below.
DTSTART;TZID=America/New_York:20221201T173000
DTEND;TZID=America/New_York:20221201T190000
LOCATION:
SUMMARY:Constance Baker Motley Speaker Series: Encouraging Equity in Specia
 l Education
END:VEVENT
END:VCALENDAR
