BEGIN:VCALENDAR
VERSION:2.0
PRODID:-//www.ctbarfdn.org//NONSGML kigkonsult.se iCalcreator 2.30.10//
CALSCALE:GREGORIAN
METHOD:PUBLISH
UID:1590fa00-26c7-40bd-8e55-dbef8639a326
X-WR-CALDESC:Join us for a CLE to learn how to represent Afghan refugees se
 eking asylum in Connecticut.  Professional immigration attorneys will lead
  the session and provide you with the tools to successfully secure asylum 
 for your pro bono clients.\n\n2 hours of CT CLE credits are available for 
 attendees.
X-WR-RELCALID:dec19822f504ad1272d9517f677e543d
X-WR-TIMEZONE:America/New_York
BEGIN:VTIMEZONE
TZID:America/New_York
BEGIN:STANDARD
TZNAME:EST
DTSTART:20221106T020000
TZOFFSETFROM:-0400
TZOFFSETTO:-0500
RDATE:20231105T020000
END:STANDARD
BEGIN:DAYLIGHT
TZNAME:EDT
DTSTART:20220313T020000
TZOFFSETFROM:-0500
TZOFFSETTO:-0400
RDATE:20230312T020000
RDATE:20240310T020000
END:DAYLIGHT
END:VTIMEZONE
BEGIN:VEVENT
UID:1d65ec80-ac80-427a-b939-0a2c9bfa629f
DTSTAMP:20260420T031549Z
DESCRIPTION:Join us for a CLE to learn how to represent Afghan refugees see
 king asylum in Connecticut.  Professional immigration attorneys will lead 
 the session and provide you with the tools to successfully secure asylum f
 or your pro bono clients.\n\n2 hours of CT CLE credits are available for a
 ttendees.
DTSTART;TZID=America/New_York:20221110T173000
DTEND;TZID=America/New_York:20221110T193000
LOCATION:Quinnipiac University School of Law\, 370 Bassett Road\, North Hav
 en\, CT 06473 US
SUMMARY:CT Afghan Asylum Project CLE
END:VEVENT
END:VCALENDAR
