BEGIN:VCALENDAR
VERSION:2.0
PRODID:-//www.ctbarfdn.org//NONSGML kigkonsult.se iCalcreator 2.30.10//
CALSCALE:GREGORIAN
METHOD:PUBLISH
UID:88229df8-4292-426b-8721-5426eede654a
X-WR-CALDESC:The 12th Speziale ADR Symposium\, Is Virtual Justice Just?\, w
 ill be held at Quinnipiac University School of Law on Friday\, November 4\
 , 2022\, from 8:00 a.m. to 5:00 p.m. National experts and trial lawyers wi
 ll join us to share their unique perspectives and expertise on this topic.
 \n\nThis symposium is divided into two sessions\, each with its own focus.
  The morning session\, Virtual Trials: What’s the Verdict?\, will examine 
 how virtual trials\, including virtual juries\, have been utilized in vari
 ous jurisdictions. The afternoon session\, Is ODR the Future of ADR?\, wil
 l consider how artificial intelligence is being used in the legal system a
 nd will discuss the growing use of online dispute resolution (ODR) in Conn
 ecticut and across the country.\n\nPlease register using the button above\
 ; admission is free\, and breakfast and lunch will be provided. \n\nUp to 
 6 hours of CT CLE credits are available for attendees.
X-WR-RELCALID:e736d753fece56c9c3ae9b2e8b770608
X-WR-TIMEZONE:America/New_York
BEGIN:VTIMEZONE
TZID:America/New_York
BEGIN:STANDARD
TZNAME:EST
DTSTART:20211107T020000
TZOFFSETFROM:-0400
TZOFFSETTO:-0500
RDATE:20221106T020000
RDATE:20231105T020000
END:STANDARD
BEGIN:DAYLIGHT
TZNAME:EDT
DTSTART:20220313T020000
TZOFFSETFROM:-0500
TZOFFSETTO:-0400
RDATE:20230312T020000
RDATE:20240310T020000
END:DAYLIGHT
END:VTIMEZONE
BEGIN:VEVENT
UID:5312326a-58f9-4c63-b076-87cb8e76aa28
DTSTAMP:20260420T031549Z
DESCRIPTION:The 12th Speziale ADR Symposium\, Is Virtual Justice Just?\, wi
 ll be held at Quinnipiac University School of Law on Friday\, November 4\,
  2022\, from 8:00 a.m. to 5:00 p.m. National experts and trial lawyers wil
 l join us to share their unique perspectives and expertise on this topic.
 \n\nThis symposium is divided into two sessions\, each with its own focus.
  The morning session\, Virtual Trials: What’s the Verdict?\, will examine 
 how virtual trials\, including virtual juries\, have been utilized in vari
 ous jurisdictions. The afternoon session\, Is ODR the Future of ADR?\, wil
 l consider how artificial intelligence is being used in the legal system a
 nd will discuss the growing use of online dispute resolution (ODR) in Conn
 ecticut and across the country.\n\nPlease register using the button above\
 ; admission is free\, and breakfast and lunch will be provided. \n\nUp to 
 6 hours of CT CLE credits are available for attendees.
DTSTART;TZID=America/New_York:20221104T080000
DTEND;TZID=America/New_York:20221104T170000
LOCATION:Quinnipiac University School of Law\, 370 Bassett Road\, North Hav
 en\, CT 06473 US
SUMMARY:12th John A. Speziale ADR Symposium
END:VEVENT
END:VCALENDAR
