BEGIN:VCALENDAR
VERSION:2.0
PRODID:-//www.ctbarfdn.org//NONSGML kigkonsult.se iCalcreator 2.30.10//
CALSCALE:GREGORIAN
METHOD:PUBLISH
UID:e69b8fd2-35e5-4681-9b20-4ad723938a37
X-WR-CALDESC:Prosecutors possess extraordinary discretion in deciding which
  cases and charges to pursue as well as which alternatives to consider. Th
 e exercise of this discretion plays a significant role in determining who 
 ends up being convicted and for how long individuals are incarcerated. Thi
 s program explores this prosecutorial power\, discusses relevant Connectic
 ut statistics of criminal justice outcomes and examines the important role
  of prosecutorial discretion in reducing the disparate racial impact of th
 e criminal justice system.\n\nCost: Free\n\nCT: 2.0 CLE Credits (Ethics)\n
 \nClosed captioning will be available during the seminar presentation for 
 virtual attendees.\n\nTo learn more about this event or to register\, plea
 se visit the link provided below.
X-WR-RELCALID:649ea042c458eca271cd89121a6d8a83
X-WR-TIMEZONE:America/New_York
BEGIN:VTIMEZONE
TZID:America/New_York
BEGIN:STANDARD
TZNAME:EST
DTSTART:20211107T020000
TZOFFSETFROM:-0400
TZOFFSETTO:-0500
RDATE:20221106T020000
RDATE:20231105T020000
END:STANDARD
BEGIN:DAYLIGHT
TZNAME:EDT
DTSTART:20220313T020000
TZOFFSETFROM:-0500
TZOFFSETTO:-0400
RDATE:20230312T020000
RDATE:20240310T020000
END:DAYLIGHT
END:VTIMEZONE
BEGIN:VEVENT
UID:8734907e-5ba0-4dcc-8a65-3e1bb7424664
DTSTAMP:20260420T000536Z
DESCRIPTION:Prosecutors possess extraordinary discretion in deciding which 
 cases and charges to pursue as well as which alternatives to consider. The
  exercise of this discretion plays a significant role in determining who e
 nds up being convicted and for how long individuals are incarcerated. This
  program explores this prosecutorial power\, discusses relevant Connecticu
 t statistics of criminal justice outcomes and examines the important role 
 of prosecutorial discretion in reducing the disparate racial impact of the
  criminal justice system.\n\nCost: Free\n\nCT: 2.0 CLE Credits (Ethics)\n
 \nClosed captioning will be available during the seminar presentation for 
 virtual attendees.\n\nTo learn more about this event or to register\, plea
 se visit the link provided below.
DTSTART;TZID=America/New_York:20220928T170000
DTEND;TZID=America/New_York:20220928T190000
LOCATION:
SUMMARY:Constance Baker Motley Speaker Series: Disparate Outcomes in the Cr
 iminal Justice System: The Role of Prosecutorial Discretion
END:VEVENT
END:VCALENDAR
