BEGIN:VCALENDAR
VERSION:2.0
PRODID:-//www.ctbarfdn.org//NONSGML kigkonsult.se iCalcreator 2.30.10//
CALSCALE:GREGORIAN
METHOD:PUBLISH
UID:8035f7b5-cdc8-4cce-8475-405cd9677bfc
X-WR-CALDESC:The Connecticut Bar Foundation James W. Cooper Fellows\, in pa
 rtnership with the affinity bar associations (Crawford\, CHBA\,\nCAPABA\, 
 and SABAC)\, are planning a 10th Anniversary Symposium that will continue 
 the discussion of the history of attorneys of color in Connecticut. The pr
 ogram will include a morning of panels on the impact of the pandemic on di
 versity\, equity\, and inclusion\, as well as a keynote by Connecticut Sta
 te Comptroller Natalie Braswell.
X-WR-RELCALID:fb1bb7bb9bfab5a96de4c22b15a27681
X-WR-TIMEZONE:America/New_York
BEGIN:VTIMEZONE
TZID:America/New_York
BEGIN:STANDARD
TZNAME:EST
DTSTART:20211107T020000
TZOFFSETFROM:-0400
TZOFFSETTO:-0500
RDATE:20221106T020000
RDATE:20231105T020000
END:STANDARD
BEGIN:DAYLIGHT
TZNAME:EDT
DTSTART:20220313T020000
TZOFFSETFROM:-0500
TZOFFSETTO:-0400
RDATE:20230312T020000
END:DAYLIGHT
END:VTIMEZONE
BEGIN:VEVENT
UID:8a1df6f3-7519-45f5-9b45-0999523c18fb
DTSTAMP:20260419T183324Z
DESCRIPTION:The Connecticut Bar Foundation James W. Cooper Fellows\, in par
 tnership with the affinity bar associations (Crawford\, CHBA\,\nCAPABA\, a
 nd SABAC)\, are planning a 10th Anniversary Symposium that will continue t
 he discussion of the history of attorneys of color in Connecticut. The pro
 gram will include a morning of panels on the impact of the pandemic on div
 ersity\, equity\, and inclusion\, as well as a keynote by Connecticut Stat
 e Comptroller Natalie Braswell.
DTSTART;TZID=America/New_York:20220629T083000
DTEND;TZID=America/New_York:20220629T130000
LOCATION:Quinnipiac University School of Law\, 370 Bassett Road\, North Hav
 en\, CT 06473 US
SUMMARY:10th Anniversary of The Attorneys of Color Symposium:  A Celebratio
 n of Progress and Perseverance
END:VEVENT
END:VCALENDAR
