BEGIN:VCALENDAR
VERSION:2.0
PRODID:-//www.ctbarfdn.org//NONSGML kigkonsult.se iCalcreator 2.30.10//
CALSCALE:GREGORIAN
METHOD:PUBLISH
UID:c2065b2d-af44-4fa4-9efd-2350eede10e1
X-WR-CALDESC:This program will explore the history and development of the r
 ights of LGBTQ+ families\, including parents and queer youth\, in the Unit
 ed States and specifically in Connecticut. We will define the status quo i
 n Connecticut\, with a focus on the new Parentage Act. Finally\, we will i
 dentify the next frontier: areas that still need work in order for queer f
 amilies to have true equality\, and how Connecticut can avoid the \nanti-L
 GBTQ+ fervor arising in other states. \n\nAfter a morning of presentations
 \, we will have a networking “lunch on your own” and then break out into s
 maller groups to allow participants to explore more deeply the various top
 ics addressed during the morning.  For more information\, please click the
  link below.\n
X-WR-RELCALID:79582a1f73d31e810af720429309bb05
X-WR-TIMEZONE:America/New_York
BEGIN:VTIMEZONE
TZID:America/New_York
BEGIN:STANDARD
TZNAME:EST
DTSTART:20211107T020000
TZOFFSETFROM:-0400
TZOFFSETTO:-0500
RDATE:20221106T020000
RDATE:20231105T020000
END:STANDARD
BEGIN:DAYLIGHT
TZNAME:EDT
DTSTART:20220313T020000
TZOFFSETFROM:-0500
TZOFFSETTO:-0400
RDATE:20230312T020000
END:DAYLIGHT
END:VTIMEZONE
BEGIN:VEVENT
UID:8365453b-53f8-48c2-a40e-d79a0b940c6d
DTSTAMP:20260419T185128Z
DESCRIPTION:This program will explore the history and development of the ri
 ghts of LGBTQ+ families\, including parents and queer youth\, in the Unite
 d States and specifically in Connecticut. We will define the status quo in
  Connecticut\, with a focus on the new Parentage Act. Finally\, we will id
 entify the next frontier: areas that still need work in order for queer fa
 milies to have true equality\, and how Connecticut can avoid the \nanti-LG
 BTQ+ fervor arising in other states. \n\nAfter a morning of presentations\
 , we will have a networking “lunch on your own” and then break out into sm
 aller groups to allow participants to explore more deeply the various topi
 cs addressed during the morning.  For more information\, please click the 
 link below.\n
DTSTART;TZID=America/New_York:20220624T083000
DTEND;TZID=America/New_York:20220624T153000
LOCATION:Quinnipiac University School of Law\, 370 Bassett Road\, North Hav
 en\, CT 06473 US
SUMMARY:Queer Families: Past\, Present\, and Promise
END:VEVENT
END:VCALENDAR
