BEGIN:VCALENDAR
VERSION:2.0
PRODID:-//www.ctbarfdn.org//NONSGML kigkonsult.se iCalcreator 2.30.10//
CALSCALE:GREGORIAN
METHOD:PUBLISH
UID:e8eab7c8-1a4f-4b83-b794-7a9a1799c5f7
X-WR-CALDESC:Critical Race Theory (CRT) has been at the forefront of discus
 sion in higher education and policy.  This session will explore the origin
 s of CRT\, the value of this approach in dismantling structural inequities
  in education\, and criticisms as well as alternatives to CRT.  Participan
 ts will have an opportunity to ask questions.\n\nCT CLE Credits: 1.25 CLE 
 Credits (Ethics) are available for attendance at this event.\nClosed capti
 oning will be available during the seminar presentation for virtual attend
 ees.\n\nTo learn more about this event or to register\, please visit the l
 ink provided below.
X-WR-RELCALID:f6f5fc63179f7ed8233f522e1966027c
X-WR-TIMEZONE:America/New_York
BEGIN:VTIMEZONE
TZID:America/New_York
BEGIN:STANDARD
TZNAME:EST
DTSTART:20211107T020000
TZOFFSETFROM:-0400
TZOFFSETTO:-0500
RDATE:20221106T020000
END:STANDARD
BEGIN:DAYLIGHT
TZNAME:EDT
DTSTART:20220313T020000
TZOFFSETFROM:-0500
TZOFFSETTO:-0400
RDATE:20230312T020000
END:DAYLIGHT
END:VTIMEZONE
BEGIN:VEVENT
UID:204a7c02-7253-4925-b58d-bddfbf924bb9
DTSTAMP:20260419T135019Z
DESCRIPTION:Critical Race Theory (CRT) has been at the forefront of discuss
 ion in higher education and policy.  This session will explore the origins
  of CRT\, the value of this approach in dismantling structural inequities 
 in education\, and criticisms as well as alternatives to CRT.  Participant
 s will have an opportunity to ask questions.\n\nCT CLE Credits: 1.25 CLE C
 redits (Ethics) are available for attendance at this event.\nClosed captio
 ning will be available during the seminar presentation for virtual attende
 es.\n\nTo learn more about this event or to register\, please visit the li
 nk provided below.
DTSTART;TZID=America/New_York:20220322T170000
DTEND;TZID=America/New_York:20220322T181500
LOCATION:
SUMMARY:Constance Baker Motley Speaker Series: Critical Race Theory in Prac
 tice
END:VEVENT
END:VCALENDAR
