BEGIN:VCALENDAR
VERSION:2.0
PRODID:-//www.ctbarfdn.org//NONSGML kigkonsult.se iCalcreator 2.30.10//
CALSCALE:GREGORIAN
METHOD:PUBLISH
UID:7da80f0b-303e-428c-ae0b-a6f1f71f9bb8
X-WR-CALDESC:A distinguished panel of doctors\, public health\, and legal p
 rofessionals moderated by Professor Zita Lazzarini will explore how struct
 ural racism impacts the health of diverse populations in Connecticut. The 
 panel will discuss mechanisms through which structural racism increases he
 alth disparities\, how to reduce its impact\, and increase health equity. 
 Join us for what will be a truly insightful conversation.\n\nCT CLE Credit
 s: 2.0 CLE Credits (Ethics) are available for attendance at this event.\n
 \nTo learn more about this event or to register\, please visit the link pr
 ovided below.\n\nClosed captioning will be available during the seminar pr
 esentation for virtual attendees.
X-WR-RELCALID:d39784eab30a1330f2a62d8973e290fe
X-WR-TIMEZONE:America/New_York
BEGIN:VTIMEZONE
TZID:America/New_York
BEGIN:STANDARD
TZNAME:EST
DTSTART:20211107T020000
TZOFFSETFROM:-0400
TZOFFSETTO:-0500
RDATE:20221106T020000
END:STANDARD
BEGIN:DAYLIGHT
TZNAME:EDT
DTSTART:20210314T020000
TZOFFSETFROM:-0500
TZOFFSETTO:-0400
RDATE:20220313T020000
RDATE:20230312T020000
END:DAYLIGHT
END:VTIMEZONE
BEGIN:VEVENT
UID:c48777e8-54b5-4c7a-ab36-31288be4d660
DTSTAMP:20260419T122733Z
DESCRIPTION:A distinguished panel of doctors\, public health\, and legal pr
 ofessionals moderated by Professor Zita Lazzarini will explore how structu
 ral racism impacts the health of diverse populations in Connecticut. The p
 anel will discuss mechanisms through which structural racism increases hea
 lth disparities\, how to reduce its impact\, and increase health equity. J
 oin us for what will be a truly insightful conversation.\n\nCT CLE Credits
 : 2.0 CLE Credits (Ethics) are available for attendance at this event.\n\n
 To learn more about this event or to register\, please visit the link prov
 ided below.\n\nClosed captioning will be available during the seminar pres
 entation for virtual attendees.
DTSTART;TZID=America/New_York:20220224T170000
DTEND;TZID=America/New_York:20220224T190000
LOCATION:
SUMMARY:Constance Baker Motley Speaker Series: Structural Racism\, A “Syste
 mic Illness”
END:VEVENT
END:VCALENDAR
