BEGIN:VCALENDAR
VERSION:2.0
PRODID:-//www.ctbarfdn.org//NONSGML kigkonsult.se iCalcreator 2.30.10//
CALSCALE:GREGORIAN
METHOD:PUBLISH
UID:d8c99079-5cbf-4d49-b0ce-999be771cc25
X-WR-CALDESC:“Faith” [noun] 1: strong belief or trust in someone or somethi
 ng.  2: belief in the existence of God: strong religious feelings or belie
 fs.  (Merriam-Webster.com)  \n\n“Practice” [verb] 1: carry out\; apply.  2
 : to do or perform often\, customarily\, or habitually.  3: to be professi
 onally engaged in.  (Merriam-Webster.com)  \n\nWhere is the intersection b
 etween the practice of law and that of faith?  Is being a member of a fait
 h community ever at odds with the substance or procedure of practicing law
 ?  To what extent does a lawyer’s faith influence the nature and character
  of their practice?  Please join us for a Zoom discussion as we explore th
 e answers to these questions and more. \n\nPANELISTS:\nFr. Michael Johnson
 \, O.F.M.\nParochial Vicar\, St. Patrick-St. Anthony Church\nFranciscan Fr
 iars\, Holy Name Province \n\nAttorney Sheila Sinha Charmoy\nCharmoy & Cha
 rmoy\n\nAttorney/Rev. Don Hamer\nEpiscopal Church of Connecticut\nFormer R
 ector\, Trinity Episcopal Church\n\nAttorney Sharon Freilich\nPullman & Co
 mley\n\nAttorney/Imam Refai Arefin\nLaw Office of Refai Arefin LLC\n\nMODE
 RATOR:\nAttorney Jose “Joe” Santos\, M.T.S\, J.D.\nConsultant\, Student of
  Theology\, and \nformer General Counsel of Pratt & Whitney\n\nCO-HOSTS:\n
 Attorney Cody Guarnieri\nBrown\, Paindiris & Scott\, LLP\n\nAttorney Uswah
  Khan\nJames W. Cooper Fellow\n\nFELLOWS EVENT: Registration for this even
 t is open to Connecticut Bar Foundation James W. Cooper Fellows. If you ar
 e a Fellow and would like to register for this event\, please contact ctbf
 @ctbarfdn.org. For more information on how to become a James W. Cooper Fel
 low\, please visit the link provided below.
X-WR-RELCALID:4e553fd37f56ed27e5c8c9cad2e2434c
X-WR-TIMEZONE:America/New_York
BEGIN:VTIMEZONE
TZID:America/New_York
BEGIN:STANDARD
TZNAME:EST
DTSTART:20211107T020000
TZOFFSETFROM:-0400
TZOFFSETTO:-0500
RDATE:20221106T020000
END:STANDARD
BEGIN:DAYLIGHT
TZNAME:EDT
DTSTART:20210314T020000
TZOFFSETFROM:-0500
TZOFFSETTO:-0400
RDATE:20220313T020000
RDATE:20230312T020000
END:DAYLIGHT
END:VTIMEZONE
BEGIN:VEVENT
UID:89459f39-99b4-4411-b8fe-60315fe49eaf
DTSTAMP:20260421T084230Z
DESCRIPTION:“Faith” [noun] 1: strong belief or trust in someone or somethin
 g.  2: belief in the existence of God: strong religious feelings or belief
 s.  (Merriam-Webster.com)  \n\n“Practice” [verb] 1: carry out\; apply.  2:
  to do or perform often\, customarily\, or habitually.  3: to be professio
 nally engaged in.  (Merriam-Webster.com)  \n\nWhere is the intersection be
 tween the practice of law and that of faith?  Is being a member of a faith
  community ever at odds with the substance or procedure of practicing law?
   To what extent does a lawyer’s faith influence the nature and character 
 of their practice?  Please join us for a Zoom discussion as we explore the
  answers to these questions and more. \n\nPANELISTS:\nFr. Michael Johnson\
 , O.F.M.\nParochial Vicar\, St. Patrick-St. Anthony Church\nFranciscan Fri
 ars\, Holy Name Province \n\nAttorney Sheila Sinha Charmoy\nCharmoy & Char
 moy\n\nAttorney/Rev. Don Hamer\nEpiscopal Church of Connecticut\nFormer Re
 ctor\, Trinity Episcopal Church\n\nAttorney Sharon Freilich\nPullman & Com
 ley\n\nAttorney/Imam Refai Arefin\nLaw Office of Refai Arefin LLC\n\nMODER
 ATOR:\nAttorney Jose “Joe” Santos\, M.T.S\, J.D.\nConsultant\, Student of 
 Theology\, and \nformer General Counsel of Pratt & Whitney\n\nCO-HOSTS:\nA
 ttorney Cody Guarnieri\nBrown\, Paindiris & Scott\, LLP\n\nAttorney Uswah 
 Khan\nJames W. Cooper Fellow\n\nFELLOWS EVENT: Registration for this event
  is open to Connecticut Bar Foundation James W. Cooper Fellows. If you are
  a Fellow and would like to register for this event\, please contact ctbf@
 ctbarfdn.org. For more information on how to become a James W. Cooper Fell
 ow\, please visit the link provided below.
DTSTART;TZID=America/New_York:20211214T180000
DTEND;TZID=America/New_York:20211214T200000
LOCATION:Virtual
SUMMARY:Virtual Roundtable Discussion: Faith and the Practice of Law
END:VEVENT
END:VCALENDAR
